BEGIN:VCALENDAR
VERSION:2.0
PRODID:-//Web del Ayuntamiento de Arenas de San Pedro - ECPv6.15.18//NONSGML v1.0//EN
CALSCALE:GREGORIAN
METHOD:PUBLISH
X-WR-CALNAME:Web del Ayuntamiento de Arenas de San Pedro
X-ORIGINAL-URL:https://arenasdesanpedro.es
X-WR-CALDESC:Eventos para Web del Ayuntamiento de Arenas de San Pedro
REFRESH-INTERVAL;VALUE=DURATION:PT1H
X-Robots-Tag:noindex
X-PUBLISHED-TTL:PT1H
BEGIN:VTIMEZONE
TZID:Europe/Madrid
BEGIN:DAYLIGHT
TZOFFSETFROM:+0100
TZOFFSETTO:+0200
TZNAME:CEST
DTSTART:20240331T010000
END:DAYLIGHT
BEGIN:STANDARD
TZOFFSETFROM:+0200
TZOFFSETTO:+0100
TZNAME:CET
DTSTART:20241027T010000
END:STANDARD
BEGIN:DAYLIGHT
TZOFFSETFROM:+0100
TZOFFSETTO:+0200
TZNAME:CEST
DTSTART:20250330T010000
END:DAYLIGHT
BEGIN:STANDARD
TZOFFSETFROM:+0200
TZOFFSETTO:+0100
TZNAME:CET
DTSTART:20251026T010000
END:STANDARD
BEGIN:DAYLIGHT
TZOFFSETFROM:+0100
TZOFFSETTO:+0200
TZNAME:CEST
DTSTART:20260329T010000
END:DAYLIGHT
BEGIN:STANDARD
TZOFFSETFROM:+0200
TZOFFSETTO:+0100
TZNAME:CET
DTSTART:20261025T010000
END:STANDARD
END:VTIMEZONE
BEGIN:VEVENT
DTSTART;VALUE=DATE:20250808
DTEND;VALUE=DATE:20250902
DTSTAMP:20260420T101133
CREATED:20250805T103015Z
LAST-MODIFIED:20250805T103015Z
UID:34171-1754611200-1756771199@arenasdesanpedro.es
SUMMARY:Ferias y Fiestas de Agosto 2025
DESCRIPTION:Desde el Ayuntamiento de Arenas de San Pedro presentamos el cartel con la programación de las Ferias y Fiestas de Agosto 2025 \nEstas fiestas\, tan esperadas por vecinos y visitantes\, volverán a llenar nuestras calles de alegría\, tradición\, música\, color y actividades para todas las edades. El cartel de este año refleja el espíritu festivo y cultural de nuestro municipio\, rindiendo homenaje a nuestras raíces mientras proyectamos una imagen moderna y acogedora de Arenas de San Pedro. \nDieciocho días en los que podremos disfrutar de festivales\, deporte\, magia\, humor\, conciertos\, tributos\, gigantes y cabezudos\, espectáculos flamencos\, corrida de toros\, feria\, presentaciones deportivas\, desfiles\, pregones\, toros de fuego\, verbenas y un largo etcétera en diversos escenarios de nuestra ciudad como es la plaza de toros\, el Palacio del Infante\, la Triste Condesa\, el Castillo del Condestable Dávalos\, la Plazuela de las Monjas Agustinas… \nEn los próximos días saldrán los programas de bolsillo. \n#arenasdesanpedo #laparra #hontanares #ramacastañas\n#dondetussentidosdespiertan\n#gredostietar \nExcmo. Ayuntamiento de Arenas De San Pedro
URL:https://arenasdesanpedro.es/evento/ferias-y-fiestas-de-agosto-2025/
ATTACH;FMTTYPE=image/jpeg:https://arenasdesanpedro.es/wp-content/uploads/2025/08/CARTEL-FERIAS-Y-FIESTAS-2025-scaled.jpg
END:VEVENT
BEGIN:VEVENT
DTSTART;TZID=Europe/Madrid:20250912T200000
DTEND;TZID=Europe/Madrid:20250912T213000
DTSTAMP:20260420T101133
CREATED:20250910T081126Z
LAST-MODIFIED:20250910T081126Z
UID:34358-1757707200-1757712600@arenasdesanpedro.es
SUMMARY:Arenas coge una conferencia sobre las raíces e identidad de la localidad
DESCRIPTION:El próximo sábado\, 12 de septiembre a las 20:00 horas\, la Torre del Homenaje del Castillo del Condestable Dávalos será el escenario de la conferencia «Raíces de Arenas: Del origen a la identidad»\, dentro del Ciclo de Conferencias 2025. \n\n\nLa ponencia estará a cargo de la historiadora arenense Eva López García\, quien abordará el recorrido histórico y cultural de la villa\, profundizando en los orígenes que han configurado la identidad actual del municipio. \n\n\nEl evento está organizado por la Asociación Cultural Oxo de la Jara\, en colaboración con el Ayuntamiento de Arenas de San Pedro. \n\n\nCon esta iniciativa\, se busca promover el conocimiento y la puesta en valor del patrimonio cultural e histórico de Arenas de San Pedro\, fomentando el arraigo y la participación ciudadana en torno a su legado\, ha manifestado el concejal de Cultura y Patrimonio\, Germán Mateos. \n\n\n#dondetussentidosdespiertan\n#ArenasDeSanPedro #laparra #hontanares #ramacastañas\n#gredostietargredostietar \n\n\nAyuntamiento de Arenas de San Pedro
URL:https://arenasdesanpedro.es/evento/arenas-coge-una-conferencia-sobre-las-raices-e-identidad-de-la-localidad/
LOCATION:Torre del homenaje\, Plza. de castillo\, Aren as de Sasn Pedro\, Ávila\, 05400\, España
END:VEVENT
BEGIN:VEVENT
DTSTART;TZID=Europe/Madrid:20250913T200000
DTEND;TZID=Europe/Madrid:20250913T210000
DTSTAMP:20260420T101133
CREATED:20250910T081556Z
LAST-MODIFIED:20250910T081556Z
UID:34364-1757793600-1757797200@arenasdesanpedro.es
SUMMARY:Iris Azquinezer ofrecerá un concierto en el Palacio el próximo sábado
DESCRIPTION:La reconocida violonchelista Iris Azquinezer presentará su concierto Hierro y verde el próximo sábado\, 13 de septiembre\, a las 20:00 horas\, en el Palacio del Infante Don Luis de Borbón de Arenas de San Pedro. \n\n\nEl recital incluirá un repertorio compuesto por obras de J.S. Bach y de la propia Azquinezer\, prometiendo una velada íntima y llena de emoción. \n\n\nLas entradas tienen un precio de 10 euros y pueden adquirirse en la Librería Cervantes\, Herbolario La Biótica y en la Oficina de Turismo de la localidad. \n\n\nEste concierto está organizado por la Asociación de Amigos del Palacio de la Mosquera con la colaboración del Ayuntamiento de Arenas de San Pedro\, y se enmarca dentro de la programación cultural de la localidad\, suponiendo una oportunidad única para disfrutar de la música de cámara en un entorno histórico incomparable. \n\n\n#dondetussentidosdespiertan\n#ArenasDeSanPedro #laparra #hontanares #ramacastañas\n#gredostietargredostietar \n\n\nAyuntamiento de Arenas de San Pedro
URL:https://arenasdesanpedro.es/evento/iris-azquinezer-ofrecera-un-concierto-en-el-palacio-el-proximo-sabado/
LOCATION:Palacio del Infante don Luis de Borbón
ATTACH;FMTTYPE=image/jpeg:https://arenasdesanpedro.es/wp-content/uploads/2025/09/Concierto.jpg
END:VEVENT
BEGIN:VEVENT
DTSTART;TZID=Europe/Madrid:20250920T113000
DTEND;TZID=Europe/Madrid:20250920T143000
DTSTAMP:20260420T101133
CREATED:20250910T115836Z
LAST-MODIFIED:20250910T115836Z
UID:34369-1758367800-1758378600@arenasdesanpedro.es
SUMMARY:Primer Encuentro de Bandas
DESCRIPTION:Programa de actividades: \n\n– 11:30 h. Desfiles de las Bandas por distintas calles de Arenas.\n– 12:30 h. Recepción de las Bandas en el Centro Cultural Josefina Carabias.\n– 13:30 h. Desfile General de todas las Bandas\, desde la Plaza de Toros hasta el Castillo del Condestable Dávalos.\n\nBandas Participantes: \n\n– Asociación Musical Banda de Música de Ávila\n– Agrupación Musical Villa de La Adrada\n– Banda Municipal de Música de Arenas de San Pedro\n– Banda Municipal de Música de El Barco de Ávila\n– Asociación Musical de El Barraco\n– Asociación Musical de Casillas\n– Banda Municipal de Higuera de las Dueñas\n– Banda de Música de El Hoyo de Pinares\n– Agrupación Musical de Navalperal de Pinares\n– Asociación Banda Municipal de Música de Pedro Bernardo\n– Banda Municipal de Música de Sotillo de la Adrada\n– Banda de Música de El Tiemblo
URL:https://arenasdesanpedro.es/evento/primer-encuentro-de-bandas/
LOCATION:Arenas de San Pedro\, Arenas de San Pedro\, Ávila\, 05400\, Spain
ATTACH;FMTTYPE=image/jpeg:https://arenasdesanpedro.es/wp-content/uploads/2025/09/Cartel.jpg
END:VEVENT
END:VCALENDAR