BEGIN:VCALENDAR
VERSION:2.0
PRODID:-//Web del Ayuntamiento de Arenas de San Pedro - ECPv6.15.18//NONSGML v1.0//EN
CALSCALE:GREGORIAN
METHOD:PUBLISH
X-ORIGINAL-URL:https://arenasdesanpedro.es
X-WR-CALDESC:Eventos para Web del Ayuntamiento de Arenas de San Pedro
REFRESH-INTERVAL;VALUE=DURATION:PT1H
X-Robots-Tag:noindex
X-PUBLISHED-TTL:PT1H
BEGIN:VTIMEZONE
TZID:Europe/Madrid
BEGIN:DAYLIGHT
TZOFFSETFROM:+0100
TZOFFSETTO:+0200
TZNAME:CEST
DTSTART:20250330T010000
END:DAYLIGHT
BEGIN:STANDARD
TZOFFSETFROM:+0200
TZOFFSETTO:+0100
TZNAME:CET
DTSTART:20251026T010000
END:STANDARD
BEGIN:DAYLIGHT
TZOFFSETFROM:+0100
TZOFFSETTO:+0200
TZNAME:CEST
DTSTART:20260329T010000
END:DAYLIGHT
BEGIN:STANDARD
TZOFFSETFROM:+0200
TZOFFSETTO:+0100
TZNAME:CET
DTSTART:20261025T010000
END:STANDARD
BEGIN:DAYLIGHT
TZOFFSETFROM:+0100
TZOFFSETTO:+0200
TZNAME:CEST
DTSTART:20270328T010000
END:DAYLIGHT
BEGIN:STANDARD
TZOFFSETFROM:+0200
TZOFFSETTO:+0100
TZNAME:CET
DTSTART:20271031T010000
END:STANDARD
END:VTIMEZONE
BEGIN:VEVENT
DTSTART;TZID=Europe/Madrid:20260416T193000
DTEND;TZID=Europe/Madrid:20260416T203000
DTSTAMP:20260422T234808
CREATED:20260413T071146Z
LAST-MODIFIED:20260413T071239Z
UID:35487-1776367800-1776371400@arenasdesanpedro.es
SUMMARY:Club de Lectura "El cuarto de atrás" de Carmen Martí Gaite
DESCRIPTION:El próximo jueves continuamos con el Club de Lectura correspondiente al mes de abril. La cita tendrá lugar en la Biblioteca Municipal Segundo Durán de Arenas de San Pedro\, donde los participantes analizarán y compartirán impresiones sobre la obra «El cuarto de atrás»\, de la autora Carmen Martin Gaite. \n\n\nDurante el encuentro se anunciará también la próxima lectura que se abordará en la siguiente tertulia. \n\n\nLa sesión dará comienzo a las 19:30 h. en la biblioteca Municipal\, sede habitual de estas reuniones culturales\, cuyo objetivo es fomentar el hábito de la lectura y el intercambio de opiniones en un ambiente cercano y participativo. \n\n\nUna de las características más destacadas de esta iniciativa es su carácter abierto\, ya que la participación es libre y gratuita para todas las personas interesadas en disfrutar de la literatura. \n\n\n#ArenasDeSanPedro #laparra #hontanares #ramacastañas\n#dondetussentidosdespiertan\n#gredostietar \n\n\nExcmo. Ayuntamiento de Arenas de San Pedro
URL:https://arenasdesanpedro.es/evento/club-de-lectura-el-cuarto-de-atras-de-carmen-marti-gaite/
LOCATION:Biblioteca Municipal Segundo Durán
ATTACH;FMTTYPE=image/jpeg:https://arenasdesanpedro.es/wp-content/uploads/2026/04/club-lectura.jpg
END:VEVENT
BEGIN:VEVENT
DTSTART;TZID=Europe/Madrid:20260417T200000
DTEND;TZID=Europe/Madrid:20260417T210000
DTSTAMP:20260422T234808
CREATED:20260415T095106Z
LAST-MODIFIED:20260415T095106Z
UID:35514-1776456000-1776459600@arenasdesanpedro.es
SUMMARY:Presentación de la novela "Operación Misgeret" de Severiano Gil
DESCRIPTION:La Torre del Homenaje del Castillo del Condestable Dávalos acogerá la presentación de la novela «Operación Misgeret. Otro éxodo del S. XX\, del autor Severiano Gil. \n\n\nEl evento tendrá lugar el próximo viernes\, 17 de abril\, a las 20:00 horas siendo la entrada libre hasta completar aforo. \n\n\nLa obra\, que toma como referencia hechos históricos del siglo XX\, invita a la reflexión sobre episodios poco conocidos relacionados con movimientos migratorios y operaciones internacionales\, ofreciendo una mirada narrativa que combina historia y ficción. \n\n\nDesde el Ayuntamiento animamos a vecinos y visitantes a participar en esta presentación literaria\, que supone una oportunidad para acercarse a la cultura y apoyar la creación literaria\, así como para poner en valor el patrimonio histórico de Arenas de San Pedro como escenario de actividades culturales. \n\n\n#ArenasDeSanPedro #laparra #hontanares #ramacastañas\n#dondetussentidosdespiertan\n#gredostietar \n\n\nExcmo. Ayuntamiento de Arenas de San Pedro
URL:https://arenasdesanpedro.es/evento/presentacion-de-la-novela-operacion-misgeret-de-severiano-gil/
LOCATION:Castillo del Condestable Dávalos
ATTACH;FMTTYPE=image/jpeg:https://arenasdesanpedro.es/wp-content/uploads/2026/04/WhatsApp-Image-2026-03-26-at-21.41.40.jpeg
END:VEVENT
END:VCALENDAR