BEGIN:VCALENDAR
VERSION:2.0
PRODID:-//Web del Ayuntamiento de Arenas de San Pedro - ECPv6.15.18//NONSGML v1.0//EN
CALSCALE:GREGORIAN
METHOD:PUBLISH
X-WR-CALNAME:Web del Ayuntamiento de Arenas de San Pedro
X-ORIGINAL-URL:https://arenasdesanpedro.es
X-WR-CALDESC:Eventos para Web del Ayuntamiento de Arenas de San Pedro
REFRESH-INTERVAL;VALUE=DURATION:PT1H
X-Robots-Tag:noindex
X-PUBLISHED-TTL:PT1H
BEGIN:VTIMEZONE
TZID:Europe/Madrid
BEGIN:DAYLIGHT
TZOFFSETFROM:+0100
TZOFFSETTO:+0200
TZNAME:CEST
DTSTART:20240331T010000
END:DAYLIGHT
BEGIN:STANDARD
TZOFFSETFROM:+0200
TZOFFSETTO:+0100
TZNAME:CET
DTSTART:20241027T010000
END:STANDARD
BEGIN:DAYLIGHT
TZOFFSETFROM:+0100
TZOFFSETTO:+0200
TZNAME:CEST
DTSTART:20250330T010000
END:DAYLIGHT
BEGIN:STANDARD
TZOFFSETFROM:+0200
TZOFFSETTO:+0100
TZNAME:CET
DTSTART:20251026T010000
END:STANDARD
BEGIN:DAYLIGHT
TZOFFSETFROM:+0100
TZOFFSETTO:+0200
TZNAME:CEST
DTSTART:20260329T010000
END:DAYLIGHT
BEGIN:STANDARD
TZOFFSETFROM:+0200
TZOFFSETTO:+0100
TZNAME:CET
DTSTART:20261025T010000
END:STANDARD
END:VTIMEZONE
BEGIN:VEVENT
DTSTART;TZID=Europe/Madrid:20251021T163000
DTEND;TZID=Europe/Madrid:20251021T180000
DTSTAMP:20260423T004847
CREATED:20251016T095223Z
LAST-MODIFIED:20251016T095223Z
UID:34610-1761064200-1761069600@arenasdesanpedro.es
SUMMARY:Charla sobre como vender a través de WhtsApp de forma segura
DESCRIPTION:La Diputación de Ávila ofrece una serie de Charlas gratuitas en diferentes zonas de la provincia de gran utilidad. \n\n\nEn Arenas de San Pedro la charla que se impartirá será de métodos para «Vender a través de WhtsApp de forma segura»\, tendréis la oportunidad de formaros en las nuevas aplicaciones que ofrece esta plataforma para obtener una comunicación más eficaz con los clientes\, mejorar significativamente los tiempos de respuesta y ofrecer una atención más rápida\, organizada y cercana.\n\n\nAdicionalmente\, se ofrece la oportunidad de participar en un taller teórico-práctico que profundizará en los casos reales que planteéis y en la problemática general al que se enfrentan tanto de las empresas del sector como el territorio. \n\n\nEsta iniciativa tiene por objeto acercar estos conocimientos a los empresarios de alojamiento rural\, informadores turísticos\, técnicos de asociaciones de empresarios\, ADL \, ADR\, Grupos de Acción Local… y cualquier otro profesional relacionado con el sector turístico que quiera reducir su brecha digital y/o actualizar conocimientos en este campo para impulsar sus métodos promocionales e incrementar sus herramientas para fidelizar al cliente. \n\n\nEn nuestro municipio se llevará a cabo el próximo martes\, 21 de octubre de 2025\, a las 16:30 horas\, en el Ayuntamiento de Arenas de San Pedro. \n\n\n#ArenasDeSanPedro #laparra #hontanares #ramacastañas\n#dondetussentidosdespiertan\n#gredostietar\n\n\nExcmo. Ayuntamiento de Arenas de San Pedro
URL:https://arenasdesanpedro.es/evento/charla-sobre-como-vender-a-traves-de-whtsapp-de-forma-segura/
LOCATION:Salón de Plenos Ayuntamiento\, Arenas de San Pedro\, Ávila\, 05400
ATTACH;FMTTYPE=image/jpeg:https://arenasdesanpedro.es/wp-content/uploads/2025/10/Cartel-Charlas-.jpg
END:VEVENT
BEGIN:VEVENT
DTSTART;TZID=Europe/Madrid:20251022T100000
DTEND;TZID=Europe/Madrid:20251023T133000
DTSTAMP:20260423T004847
CREATED:20251008T094205Z
LAST-MODIFIED:20251008T094205Z
UID:34534-1761127200-1761226200@arenasdesanpedro.es
SUMMARY:Curso sobre DNI\, Certificado Digital y Sistema Cl@ve
DESCRIPTION:El taller abordará de forma práctica y accesible los principales mecanismos de identificación y autenticación digital en España: el DNI electrónico\, el Certificado Digital y el sistema Cl@ve\, herramientas clave para realizar trámites seguros con las administraciones públicas y entidades privadas. Los contenidos están dirigidos a la ciudadanía para facilitar la inclusión digital y el uso seguro de servicios electrónicos.\n\n\n\n\n\nLas personas interesadas pueden informarse e inscribirse a través de:\n– Página web: cyldigital.es\n– Correo electrónico: ayuda@cyldigital.es\n– Teléfono gratuito: 900 909 752\n– Ayuntamiento de Arenas de San Pedro\n\n\n\n\n\n#ArenasDeSanPedro #laparra #hontanares #ramacastañas\n#dondetussentidosdespiertan\n#gredostietar \n\n\n\nExcmo. Ayuntamiento de Arenas de San Pedro
URL:https://arenasdesanpedro.es/evento/curso-sobre-dni-certificado-digital-y-sistema-clve/
LOCATION:Salón de Plenos Ayuntamiento\, Arenas de San Pedro\, Ávila\, 05400
ATTACH;FMTTYPE=image/jpeg:https://arenasdesanpedro.es/wp-content/uploads/2025/10/ArenasSanPedro_Octubre25_DNI-CERTIF.-DIGITAL-Y-SISTEMA-CLAVE-1.jpg
END:VEVENT
END:VCALENDAR