BEGIN:VCALENDAR
VERSION:2.0
PRODID:-//Web del Ayuntamiento de Arenas de San Pedro - ECPv6.15.18//NONSGML v1.0//EN
CALSCALE:GREGORIAN
METHOD:PUBLISH
X-WR-CALNAME:Web del Ayuntamiento de Arenas de San Pedro
X-ORIGINAL-URL:https://arenasdesanpedro.es
X-WR-CALDESC:Eventos para Web del Ayuntamiento de Arenas de San Pedro
REFRESH-INTERVAL;VALUE=DURATION:PT1H
X-Robots-Tag:noindex
X-PUBLISHED-TTL:PT1H
BEGIN:VTIMEZONE
TZID:Europe/Madrid
BEGIN:DAYLIGHT
TZOFFSETFROM:+0100
TZOFFSETTO:+0200
TZNAME:CEST
DTSTART:20250330T010000
END:DAYLIGHT
BEGIN:STANDARD
TZOFFSETFROM:+0200
TZOFFSETTO:+0100
TZNAME:CET
DTSTART:20251026T010000
END:STANDARD
BEGIN:DAYLIGHT
TZOFFSETFROM:+0100
TZOFFSETTO:+0200
TZNAME:CEST
DTSTART:20260329T010000
END:DAYLIGHT
BEGIN:STANDARD
TZOFFSETFROM:+0200
TZOFFSETTO:+0100
TZNAME:CET
DTSTART:20261025T010000
END:STANDARD
BEGIN:DAYLIGHT
TZOFFSETFROM:+0100
TZOFFSETTO:+0200
TZNAME:CEST
DTSTART:20270328T010000
END:DAYLIGHT
BEGIN:STANDARD
TZOFFSETFROM:+0200
TZOFFSETTO:+0100
TZNAME:CET
DTSTART:20271031T010000
END:STANDARD
END:VTIMEZONE
BEGIN:VEVENT
DTSTART;TZID=Europe/Madrid:20260323T193000
DTEND;TZID=Europe/Madrid:20260410T203000
DTSTAMP:20260422T181449
CREATED:20260323T090739Z
LAST-MODIFIED:20260323T090739Z
UID:35427-1774294200-1775853000@arenasdesanpedro.es
SUMMARY:Audiciones de la Escuela Municipal de Música
DESCRIPTION:Arenas de San Pedro acogerá la próxima semana el inicio del ciclo de audiciones de la Escuela Municipal de Música «Luigi Boccherini»\, una cita ya consolidada en la agenda cultural local que permitirá al alumnado mostrar al público el trabajo realizado durante el curso. \n\nLas audiciones tendrán lugar en el Salón de Actos del Centro Cultural Josefina Carabias\, a partir de las 19:30 horas\, y se desarrollarán entre el lunes 23 y el jueves 26 de marzo\, además de una sesión final el viernes 10 de abril. \n\n\n– Lunes 23 de marzo: Piano\, violonchelo y violín.\n– Martes 24 de marzo: Violín\, piano y guitarra.\n– Miércoles 25 de marzo: Saxofón\, violín y guitarra.\n– Jueves 26 de marzo: Saxofón\, clarinete y flauta.\n– Viernes 10 de abril: Percusión\, trompeta y trombón. \n\n\nEstas audiciones suponen una excelente oportunidad para que vecinos y visitantes disfruten de la música en directo y conozcan de cerca la formación que se imparte en la Escuela Municipal.\n\n\nDesde la EMM invitan a todos los vecinos a asistir y apoyar a los jóvenes intérpretes en esta experiencia escénica\, fundamental en su desarrollo musical. \n\n\n#ArenasDeSanPedro #laparra #hontanares #ramacastañas\n#dondetussentidosdespiertan\n#gredostietar \n\n\nExcmo. Ayuntamiento de Arenas de San Pedro
URL:https://arenasdesanpedro.es/evento/audiciones-de-la-escuela-municipal-de-musica/
LOCATION:Centro Cultural Josefina Carabias
ATTACH;FMTTYPE=image/jpeg:https://arenasdesanpedro.es/wp-content/uploads/2026/03/audiciones-aulas-1-1.jpg
END:VEVENT
BEGIN:VEVENT
DTSTART;VALUE=DATE:20260328
DTEND;VALUE=DATE:20260406
DTSTAMP:20260422T181449
CREATED:20260324T084920Z
LAST-MODIFIED:20260324T084920Z
UID:35439-1774656000-1775433599@arenasdesanpedro.es
SUMMARY:Programación Semana Santa 2026
DESCRIPTION:Arenas de San Pedro se prepara para vivir una de sus celebraciones más especiales. \n\n\nUna Semana Santa llena de emoción\, tradición y devoción\, donde nuestras calles se convierten en el escenario de procesiones\, actos litúrgicos y momentos únicos que forman parte de nuestra identidad. \n\n\nUn encuentro que une a vecinos y visitantes\, poniendo en valor nuestro patrimonio cultural\, natural y la riqueza de nuestras tradiciones. \n\n\nTe invitamos a formar parte de esta experiencia y descubrir todo lo que hace de Arenas de San Pedro un destino único en estas fechas. \n\n\n Vive la tradición\n Siente la emoción\n Descubre Arenas \n\n\n#ArenasDeSanPedro #laparra #hontanares #ramacastañas\n#dondetussentidosdespiertan\n#gredostietar  \n\n\nExcmo. Ayuntamiento de Arenas de San Pedro
URL:https://arenasdesanpedro.es/evento/programacion-semana-santa-2026/
LOCATION:Arenas de San Pedro\, Arenas de San Pedro\, Ávila\, 05400\, Spain
ATTACH;FMTTYPE=image/jpeg:https://arenasdesanpedro.es/wp-content/uploads/2026/03/Programacion.jpg
END:VEVENT
BEGIN:VEVENT
DTSTART;TZID=Europe/Madrid:20260329T200000
DTEND;TZID=Europe/Madrid:20260329T210000
DTSTAMP:20260422T181449
CREATED:20260326T084112Z
LAST-MODIFIED:20260326T084112Z
UID:35441-1774814400-1774818000@arenasdesanpedro.es
SUMMARY:Concierto de Semana Santa corales
DESCRIPTION:Las corales de Arenas de San Pedro ofrecerán su concierto de Semana Santa\, el próximo domingo\, 29 de marzo\, a las 20:00 horas\, en la Parroquia de Nuestra Señora de la Asunción.\n\n\nEl evento contará con la participación de las corales de la Escuela Municipal de Música Luigi Boccherini\, así como de la Coral Voces de Gredos\, ambas de Arenas de San Pedro\, bajo la dirección de Carlos Vianey Pinzón\, y con el acompañamiento al piano de Pablo Antonio Jiménez. \n\n\nEste concierto ofrece una oportunidad única para disfrutar de la música coral en un entorno emblemático\, en una cita marcada por la solemnidad y la emoción propias de estas fechas.\n\n\nLa entrada es libre hasta completar aforo. \n\n\n#ArenasDeSanPedro #laparra #hontanares #ramacastañas\n#dondetussentidosdespiertan\n#GredosTiétar \n\n\nExcmo. Ayuntamiento de Arenas de San Pedro
URL:https://arenasdesanpedro.es/evento/concierto-de-semana-santa-corales/
LOCATION:Parroquia de Nuestra Señora de la Asunción
ATTACH;FMTTYPE=image/jpeg:https://arenasdesanpedro.es/wp-content/uploads/2026/03/Concierto-coral.jpg
END:VEVENT
END:VCALENDAR