BEGIN:VCALENDAR
VERSION:2.0
PRODID:-//Web del Ayuntamiento de Arenas de San Pedro - ECPv6.15.18//NONSGML v1.0//EN
CALSCALE:GREGORIAN
METHOD:PUBLISH
X-WR-CALNAME:Web del Ayuntamiento de Arenas de San Pedro
X-ORIGINAL-URL:https://arenasdesanpedro.es
X-WR-CALDESC:Eventos para Web del Ayuntamiento de Arenas de San Pedro
REFRESH-INTERVAL;VALUE=DURATION:PT1H
X-Robots-Tag:noindex
X-PUBLISHED-TTL:PT1H
BEGIN:VTIMEZONE
TZID:Europe/Madrid
BEGIN:DAYLIGHT
TZOFFSETFROM:+0100
TZOFFSETTO:+0200
TZNAME:CEST
DTSTART:20240331T010000
END:DAYLIGHT
BEGIN:STANDARD
TZOFFSETFROM:+0200
TZOFFSETTO:+0100
TZNAME:CET
DTSTART:20241027T010000
END:STANDARD
BEGIN:DAYLIGHT
TZOFFSETFROM:+0100
TZOFFSETTO:+0200
TZNAME:CEST
DTSTART:20250330T010000
END:DAYLIGHT
BEGIN:STANDARD
TZOFFSETFROM:+0200
TZOFFSETTO:+0100
TZNAME:CET
DTSTART:20251026T010000
END:STANDARD
BEGIN:DAYLIGHT
TZOFFSETFROM:+0100
TZOFFSETTO:+0200
TZNAME:CEST
DTSTART:20260329T010000
END:DAYLIGHT
BEGIN:STANDARD
TZOFFSETFROM:+0200
TZOFFSETTO:+0100
TZNAME:CET
DTSTART:20261025T010000
END:STANDARD
BEGIN:DAYLIGHT
TZOFFSETFROM:+0100
TZOFFSETTO:+0200
TZNAME:CEST
DTSTART:20270328T010000
END:DAYLIGHT
BEGIN:STANDARD
TZOFFSETFROM:+0200
TZOFFSETTO:+0100
TZNAME:CET
DTSTART:20271031T010000
END:STANDARD
END:VTIMEZONE
BEGIN:VEVENT
DTSTART;TZID=Europe/Madrid:20251108T203000
DTEND;TZID=Europe/Madrid:20260314T220000
DTSTAMP:20260422T204913
CREATED:20251027T083201Z
LAST-MODIFIED:20251027T083201Z
UID:34663-1762633800-1773525600@arenasdesanpedro.es
SUMMARY:Canciones de Invierno
DESCRIPTION:En esta edición de 𝑪𝒂𝒏𝒄𝒊𝒐𝒏𝒆𝒔 𝒅𝒆 𝒊𝒏𝒗𝒊𝒆𝒓𝒏𝒐 vamos a disfrutar de los siguientes artistas:\n– 8 𝐝𝐞 𝐧𝐨𝐯𝐢𝐞𝐦𝐛𝐫𝐞: Soleado.\n-𝟕 𝐝𝐞 𝐝𝐢𝐜𝐢𝐞𝐦𝐛𝐫𝐞: El Nido.\n– 𝟐4 𝐝𝐞 𝐞𝐧𝐞𝐫𝐨: La bien querida.\n– 7 𝐝𝐞 𝐟𝐞𝐛𝐫𝐞𝐫𝐨: Dulzaro.\n– 14 𝐝𝐞 𝐦𝐚𝐫𝐳𝐨: Clara Montes. \nVenta de entradas en el Herbolario La Biótica y en la taquilla el día del evento.\nPrecio: 12€ entrada simple y 40€ el abono para los cinco conciertos.\nReservas: 642 36 97 35.\nReservas: info.cancionesdeinvierno@gmail.com \n#ArenasDeSanPedro #laparra #hontanares #ramacastañas\n#dondetussentidosdespiertan\n#gredostietar \nExcmo. Ayuntamiento de Arenas de San Pedro
URL:https://arenasdesanpedro.es/evento/canciones-de-invierno/
LOCATION:Centro Cultural Josefina Carabias
ATTACH;FMTTYPE=image/jpeg:https://arenasdesanpedro.es/wp-content/uploads/2025/10/Diseno-sin-titulo-1-1.jpg
END:VEVENT
BEGIN:VEVENT
DTSTART;VALUE=DATE:20260228
DTEND;VALUE=DATE:20260302
DTSTAMP:20260422T204913
CREATED:20260226T111219Z
LAST-MODIFIED:20260226T111219Z
UID:35319-1772236800-1772409599@arenasdesanpedro.es
SUMMARY:Feria del Stock
DESCRIPTION:Vuelve la Feria del Stock en la que participan 12 establecimiento. \n\n\nOrganizada por el comercio de la localidad en colaboración con la Concejalía de Comercio y Turismo del Ayuntamiento\, esta feria se ha consolidado como un importante escaparate de productos y oportunidades únicas para vecinos y visitantes. \n\n\n Fechas y horario:\n– Sábado\, 28 de febrero de 2026\, de 10:00 a 14:00 horas y de17:00 a 20:00 horas\n– Domingo\, 1 de marzo de 2026\, de 10:00 a 14:00 horas \n\n\nDurante estos dos días\, los comercios adheridos ofrecerán artículos con grandes descuentos\, convirtiendo la ciudad en un punto de encuentro para quienes buscan calidad y buen precio.\n\n\nUna excelente oportunidad para apoyar al comercio local y aprovechar promociones especiales. \n\n\nEstablecimientos:\n– Mariposas\n– TOTEM\n– Deportes Candi Cronos\n– Atmósfera Sport\n– Sötkatt Arenas \n– Fridaarenas\n– Mar zapateria\n– India\n– Azahar arenas\n– Triste Condesa 16\n– Lopersonalizamos \n\n\n#ArenasDeSanPedro #laparra #hontanares #ramacastañas\n#dondetussentidosdespiertan\n#gredostietar \n\n\nExcmo. Ayuntamiento de Arenas de San Pedro
URL:https://arenasdesanpedro.es/evento/feria-del-stock/
LOCATION:Arenas de San Pedro\, Arenas de San Pedro\, Ávila\, 05400\, Spain
ATTACH;FMTTYPE=image/jpeg:https://arenasdesanpedro.es/wp-content/uploads/2026/02/Cartel-marzo.jpg
END:VEVENT
BEGIN:VEVENT
DTSTART;TZID=Europe/Madrid:20260228T200000
DTEND;TZID=Europe/Madrid:20260228T213000
DTSTAMP:20260422T204913
CREATED:20260115T090855Z
LAST-MODIFIED:20260115T090855Z
UID:35148-1772308800-1772314200@arenasdesanpedro.es
SUMMARY:VI Premios Siempre Incendiada y Siempre Fiel 2026 Arenas de San Pedro
DESCRIPTION:El Ayuntamiento de Arenas de San Pedro votará en el próximo Pleno la lista de candidatos para otorgar los Premios Siempre Incendiada y Siempre Fiel 2026 que se celebrarán el próximo sábado\, 28 de febrero\, a las 20:00 horas en el Centro Cultural “Josefina Carabias”. \n\n\nLas personas e instituciones propuestas para esta VI Edición son:\n\n\n «SIEMPRE INCENDIADA Y SIEMPRE FIEL DE LA CULTURA». Grupo Folclórico «Los Pioneros»\n\n\n «SIEMPRE INCENDIADA Y SIEMPRE FIEL A LA TRAYECTORIA». Cooperativa de Cosecheros de Aceitunas «El Puente de Gredos»\n\n\n «SIEMPRE INCENDIADA Y SIEMPRE FIEL DE LA LABOR SOCIAL». Cruz Roja de Arenas de San Pedro\n\n\n «SIEMPRE INCENDIADA Y SIEMPRE FIEL AL MÉRITO EMPRESARIAL». Farmacia Carlos Sánchez-Monge\n\n\n «SIEMPRE INCENDIADA Y SIEMPRE FIEL A LA COMUNICACIÓN». Paco de León\n\n\n «SIEMPRE INCENDIADA Y SIEMPRE FIEL A LA TRAYECTORIA». Pedro Rodríguez\n\n\n «SIEMPRE INCENDIADA Y SIEMPRE FIEL DE LA CIENCIA». Sonia Wagner\n\n\nEl nombre elegido para estos galardones fue: Premios Siempre Incendiada y Siempre Fiel 2026\, puesto que es el lema de la ciudad de Arenas\, y es lo más representativo del carácter y sentir de los arenenses. \n\n\n#ArenasDeSanPedro #laparra #hontanares #ramacastañas\n#dondetussentidosdespiertan\n#gredostietar \n\n\nExcmo. Ayuntamiento de Arenas De San Pedro
URL:https://arenasdesanpedro.es/evento/vi-premios-siempre-incendiada-y-siempre-fiel-2026-arenas-de-san-pedro/
LOCATION:Centro Cultural Josefina Carabias
ATTACH;FMTTYPE=image/jpeg:https://arenasdesanpedro.es/wp-content/uploads/2026/01/VI-EDICION-PREMIO-GREDOS.jpg
END:VEVENT
END:VCALENDAR