BEGIN:VCALENDAR
VERSION:2.0
PRODID:-//Web del Ayuntamiento de Arenas de San Pedro - ECPv6.15.18//NONSGML v1.0//EN
CALSCALE:GREGORIAN
METHOD:PUBLISH
X-WR-CALNAME:Web del Ayuntamiento de Arenas de San Pedro
X-ORIGINAL-URL:https://arenasdesanpedro.es
X-WR-CALDESC:Eventos para Web del Ayuntamiento de Arenas de San Pedro
REFRESH-INTERVAL;VALUE=DURATION:PT1H
X-Robots-Tag:noindex
X-PUBLISHED-TTL:PT1H
BEGIN:VTIMEZONE
TZID:Europe/Madrid
BEGIN:DAYLIGHT
TZOFFSETFROM:+0100
TZOFFSETTO:+0200
TZNAME:CEST
DTSTART:20240331T010000
END:DAYLIGHT
BEGIN:STANDARD
TZOFFSETFROM:+0200
TZOFFSETTO:+0100
TZNAME:CET
DTSTART:20241027T010000
END:STANDARD
BEGIN:DAYLIGHT
TZOFFSETFROM:+0100
TZOFFSETTO:+0200
TZNAME:CEST
DTSTART:20250330T010000
END:DAYLIGHT
BEGIN:STANDARD
TZOFFSETFROM:+0200
TZOFFSETTO:+0100
TZNAME:CET
DTSTART:20251026T010000
END:STANDARD
BEGIN:DAYLIGHT
TZOFFSETFROM:+0100
TZOFFSETTO:+0200
TZNAME:CEST
DTSTART:20260329T010000
END:DAYLIGHT
BEGIN:STANDARD
TZOFFSETFROM:+0200
TZOFFSETTO:+0100
TZNAME:CET
DTSTART:20261025T010000
END:STANDARD
BEGIN:DAYLIGHT
TZOFFSETFROM:+0100
TZOFFSETTO:+0200
TZNAME:CEST
DTSTART:20270328T010000
END:DAYLIGHT
BEGIN:STANDARD
TZOFFSETFROM:+0200
TZOFFSETTO:+0100
TZNAME:CET
DTSTART:20271031T010000
END:STANDARD
END:VTIMEZONE
BEGIN:VEVENT
DTSTART;TZID=Europe/Madrid:20251108T203000
DTEND;TZID=Europe/Madrid:20260314T220000
DTSTAMP:20260422T234618
CREATED:20251027T083201Z
LAST-MODIFIED:20251027T083201Z
UID:34663-1762633800-1773525600@arenasdesanpedro.es
SUMMARY:Canciones de Invierno
DESCRIPTION:En esta edición de 𝑪𝒂𝒏𝒄𝒊𝒐𝒏𝒆𝒔 𝒅𝒆 𝒊𝒏𝒗𝒊𝒆𝒓𝒏𝒐 vamos a disfrutar de los siguientes artistas:\n– 8 𝐝𝐞 𝐧𝐨𝐯𝐢𝐞𝐦𝐛𝐫𝐞: Soleado.\n-𝟕 𝐝𝐞 𝐝𝐢𝐜𝐢𝐞𝐦𝐛𝐫𝐞: El Nido.\n– 𝟐4 𝐝𝐞 𝐞𝐧𝐞𝐫𝐨: La bien querida.\n– 7 𝐝𝐞 𝐟𝐞𝐛𝐫𝐞𝐫𝐨: Dulzaro.\n– 14 𝐝𝐞 𝐦𝐚𝐫𝐳𝐨: Clara Montes. \nVenta de entradas en el Herbolario La Biótica y en la taquilla el día del evento.\nPrecio: 12€ entrada simple y 40€ el abono para los cinco conciertos.\nReservas: 642 36 97 35.\nReservas: info.cancionesdeinvierno@gmail.com \n#ArenasDeSanPedro #laparra #hontanares #ramacastañas\n#dondetussentidosdespiertan\n#gredostietar \nExcmo. Ayuntamiento de Arenas de San Pedro
URL:https://arenasdesanpedro.es/evento/canciones-de-invierno/
LOCATION:Centro Cultural Josefina Carabias
ATTACH;FMTTYPE=image/jpeg:https://arenasdesanpedro.es/wp-content/uploads/2025/10/Diseno-sin-titulo-1-1.jpg
END:VEVENT
BEGIN:VEVENT
DTSTART;VALUE=DATE:20260203
DTEND;VALUE=DATE:20260228
DTSTAMP:20260422T234618
CREATED:20260203T122238Z
LAST-MODIFIED:20260204T080128Z
UID:35233-1770076800-1772236799@arenasdesanpedro.es
SUMMARY:El Ayuntamiento pone en marcha la campaña de apoyo a la hostelería "Todo suma en Arenas de San Pedro. Tu pueblo\, tu futuro"
DESCRIPTION:Desde el Ayuntamiento de Arenas de San Pedro queremos ser el altavoz de las empresas de hostelería de nuestro municipio\, con el objetivo de que los vecinos\, visitantes y seguidores de nuestras Redes Sociales conozcan todos los bares\, restaurantes\, pubs\,… que están en la localidad y puedan hacer uso de ellos según sus necesidades. De esta manera apoyamos a los negocios y fortalecemos la economía local. \nPor ello\, la Campaña “Todo Suma en Arenas\, tu pueblo\, tu futuro” quiere dar a conocer los negocios locales a través de las Redes Sociales municipales\, concretamente a través de Facebook (más de 11.000 seguidores) e Instagram (más de 7.500 seguidores). \n¿Qué negocios vamos a publicitar?\nParticiparán todos los negocios de hostelería\, ya sean bares\, restaurantes\, cafeterías\, pubs\, discotecas\, … con domicilio o sede en Arenas de San Pedro. \n¿Cómo promocionamos los negocios?\nDebes rellenar la ficha adjunta con los datos de tu negocio y enviarla a antonio.blazquez@aytoarenas.com indicando en el asunto “Todo Suma en Arenas\, tu pueblo\, tu futuro». \n¿Qué datos debes proporcionar?\nEn la ficha encontrarás los datos básicos del negocio\, dirección y teléfono o correo electrónico y otro apartado denominado datos a destacar\, donde nos debes indicar qué quieres resaltar de tu negocio\, cualquier aspecto que te haga diferente del resto de negocios de tu categoría.\nTodos los datos que proporciones son voluntarios\, ya que todo se va a publicar en las redes sociales mencionadas.\nTambién puedes enviarnos 5 fotografías\, entre las que puedes incluir el logotipo de tu empresa\, la fachada\, el interior\, d diferentes platos gastronómicos o cocteles que os caracterizan\, puedes enviarnos una foto de cualquiera de las actividades que realices. \n¿Cuándo se van a realizar las publicaciones?\nDe lunes a viernes\, no festivos\, hasta el 27 de marzo. Todos los anuncios se publicarán en la misma franja horaria. Entre las 08.00 y las 10.00h.\nLos anuncios se publicarán por estricto orden de llegada \nImportante:\n🔹– El Ayuntamiento se reserva el derecho de publicar un anuncio si su contenido es inadecuado.\n🔹– Toda la información facilitada será publicada.\n🔹– El Ayuntamiento podrá realizar las comprobaciones necesarias para verificar los datos\, así como las modificaciones que considere oportuno. \nℹ Toda la información y bases 👇:\nBASES \nFICHA  \n#arenasdesanpedro #laparra #hontanares #ramacastañas\n#dondetussentidosdespiertan\n#gredostietar \nExcmo. Ayuntamiento de Arenas de San Pedro
URL:https://arenasdesanpedro.es/evento/el-ayuntamiento-pone-en-marcha-la-campana-de-apoyo-a-la-hosteleria-todo-suma-en-arenas-de-san-pedro-tu-pueblo-tu-futuro/
ATTACH;FMTTYPE=image/jpeg:https://arenasdesanpedro.es/wp-content/uploads/2026/02/generico-1.jpg
END:VEVENT
BEGIN:VEVENT
DTSTART;TZID=Europe/Madrid:20260221T190000
DTEND;TZID=Europe/Madrid:20260221T210000
DTSTAMP:20260422T234618
CREATED:20260217T082935Z
LAST-MODIFIED:20260217T082935Z
UID:35280-1771700400-1771707600@arenasdesanpedro.es
SUMMARY:Ciclo de conferencias 2026. Orígenes de la devoción a la Virgen del Pilar y Agustinos de Arenas
DESCRIPTION:El próximo sábado\, 21 de febrero\, a las 19:00 horas\, la Torre del Homenaje del Castillo del Condestable Dávalos acogerá la ponencia Orígenes de la devoción a la Virgen del Pilar y Agustinos de Arenas\, dentro del Ciclo de Conferencias 2026. \n\n\nUna charla a cargo de Lucidio Sánchez Ortigosa quien abordará el arraigo histórico de esta advocación mariana\, la Virgen del Pilar de Arenas\, y su relación con la presencia de la orden Agustina en Arenas a lo largo de los siglos. \n\n\nEl acto está organizado por la Asociación Cultural OXO de la Jara y cuenta con la colaboración del Ayuntamiento de Arenas de San Pedro\, dentro de su programación cultural anual orientada a la difusión de la historia\, la tradición y la identidad local. \n\n\nCon esta conferencia se pretende descubrir y valorar la historia\, la tradición y la devoción\, ya que forman parte de la identidad de Arenas de San Pedro.\n\n\n– Fecha: 21 de febrero de 2026.\n– Hora: 19:00 h.\n– Lugar: Torre del Homenaje del Castillo del Condestable Dávalos.\n\n\n\n\n\n#arenasdesanpedro #laparra #hontanares #ramacastañas\n#dondetussentidosdespiertan\n#gredostiétar \n\n\nExcmo. Ayuntamiento de Arenas de San Pedro
URL:https://arenasdesanpedro.es/evento/ciclo-de-conferencias-2026-origenes-de-la-devocion-a-la-virgen-del-pilar-y-agustinos-de-arenas/
LOCATION:Castillo del Condestable Dávalos
ATTACH;FMTTYPE=image/jpeg:https://arenasdesanpedro.es/wp-content/uploads/2026/02/21-de-febrero.jpg
END:VEVENT
BEGIN:VEVENT
DTSTART;TZID=Europe/Madrid:20260221T200000
DTEND;TZID=Europe/Madrid:20260221T210000
DTSTAMP:20260422T234618
CREATED:20260217T083105Z
LAST-MODIFIED:20260217T083756Z
UID:35283-1771704000-1771707600@arenasdesanpedro.es
SUMMARY:Proyección solidaria a favor de la AECC El Himalaya de ayer y de hoy por Jerónimo López.
DESCRIPTION:El Centro Cultural Josefina Carabias de Arenas de San Pedro acogerá el sábado\, 21 de febrero\, a las 20:00 horas\, la proyección solidaria y posterior rifa «El Himalaya de ayer y de hoy\, impartido por Jerónimo López\, a beneficio de la Asociación Española Contra el Cáncer. \nJerónimo López es un reconocido alpinista y divulgador\, quien ofrecerá una mirada personal y experta sobre la evolución del Himalaya y el alpinismo a lo largo del tiempo. \nEsta iniciativa solidaria\, organizada por Ángel Rituerto Marrupe\, cuenta con la colaboración del Ayuntamiento de Arenas de San Pedro y tiene como objetivo recaudar fondos para apoyar la labor que desarrolla la Asociación Española Contra el Cáncer\, entidad de referencia en la lucha contra esta enfermedad y en el acompañamiento a pacientes y familiares. \nDesde el Ayuntamiento se invita a vecinos y visitantes a participar en este evento cultural y solidario\, que aúna divulgación\, deporte y compromiso social\, y cuya recaudación irá íntegramente destinada a una causa de gran importancia. \n#ArenasDeSanPedro #laparra #hontanares #ramacastañas\n#dondetussentidosdespiertan\n#GredosTiétar \nExcmo. Ayuntamiento de Arenas de San Pedro
URL:https://arenasdesanpedro.es/evento/35283/
LOCATION:Centro Cultural Josefina Carabias
ATTACH;FMTTYPE=image/jpeg:https://arenasdesanpedro.es/wp-content/uploads/2026/02/Cartel.jpeg
END:VEVENT
END:VCALENDAR