BEGIN:VCALENDAR
VERSION:2.0
PRODID:-//Web del Ayuntamiento de Arenas de San Pedro - ECPv6.15.18//NONSGML v1.0//EN
CALSCALE:GREGORIAN
METHOD:PUBLISH
X-ORIGINAL-URL:https://arenasdesanpedro.es
X-WR-CALDESC:Eventos para Web del Ayuntamiento de Arenas de San Pedro
REFRESH-INTERVAL;VALUE=DURATION:PT1H
X-Robots-Tag:noindex
X-PUBLISHED-TTL:PT1H
BEGIN:VTIMEZONE
TZID:Europe/Madrid
BEGIN:DAYLIGHT
TZOFFSETFROM:+0100
TZOFFSETTO:+0200
TZNAME:CEST
DTSTART:20240331T010000
END:DAYLIGHT
BEGIN:STANDARD
TZOFFSETFROM:+0200
TZOFFSETTO:+0100
TZNAME:CET
DTSTART:20241027T010000
END:STANDARD
BEGIN:DAYLIGHT
TZOFFSETFROM:+0100
TZOFFSETTO:+0200
TZNAME:CEST
DTSTART:20250330T010000
END:DAYLIGHT
BEGIN:STANDARD
TZOFFSETFROM:+0200
TZOFFSETTO:+0100
TZNAME:CET
DTSTART:20251026T010000
END:STANDARD
BEGIN:DAYLIGHT
TZOFFSETFROM:+0100
TZOFFSETTO:+0200
TZNAME:CEST
DTSTART:20260329T010000
END:DAYLIGHT
BEGIN:STANDARD
TZOFFSETFROM:+0200
TZOFFSETTO:+0100
TZNAME:CET
DTSTART:20261025T010000
END:STANDARD
END:VTIMEZONE
BEGIN:VEVENT
DTSTART;VALUE=DATE:20251010
DTEND;VALUE=DATE:20251021
DTSTAMP:20260422T201621
CREATED:20251002T085936Z
LAST-MODIFIED:20251002T085936Z
UID:34458-1760054400-1761004799@arenasdesanpedro.es
SUMMARY:Programación Fiestas en honor a San Pedro de Alcántara
DESCRIPTION:Desde el Ayuntamiento de Arenas de San Pedro presentamos el cartel con la programación de las Fiestas Patronales en honor a San Pedro de Alcántara 2025\, que se celebrarán en nuestra ciudad desde el viernes 10 hasta el lunes 20 de octubre. \n𝐕𝐈𝐕𝐀 𝐒𝐀𝐍 𝐏𝐄𝐃𝐑𝐎 𝐃𝐄 𝐀𝐋𝐂Á𝐍𝐓𝐀𝐑𝐀 ‼️ \nPuedes descargarte el cartel el PDF en el siguiente enlace 👇: \n\nProgramación de las Fiestas en honor a San Pedro de Alcántara \n\n#arenasdesanpedro #laparra #hontanares #ramacastañas\n#dondetussentidosdespiertan\n#gredostietar
URL:https://arenasdesanpedro.es/evento/programacion-fiestas-en-honor-a-san-pedro-de-alcantara/
ATTACH;FMTTYPE=image/jpeg:https://arenasdesanpedro.es/wp-content/uploads/2025/09/CARTEL-PROGRAMA-SAN-PEDRO-2025.jpg
END:VEVENT
END:VCALENDAR