BEGIN:VCALENDAR
VERSION:2.0
PRODID:-//Web del Ayuntamiento de Arenas de San Pedro - ECPv6.15.18//NONSGML v1.0//EN
CALSCALE:GREGORIAN
METHOD:PUBLISH
X-ORIGINAL-URL:https://arenasdesanpedro.es
X-WR-CALDESC:Eventos para Web del Ayuntamiento de Arenas de San Pedro
REFRESH-INTERVAL;VALUE=DURATION:PT1H
X-Robots-Tag:noindex
X-PUBLISHED-TTL:PT1H
BEGIN:VTIMEZONE
TZID:Europe/Madrid
BEGIN:DAYLIGHT
TZOFFSETFROM:+0100
TZOFFSETTO:+0200
TZNAME:CEST
DTSTART:20240331T010000
END:DAYLIGHT
BEGIN:STANDARD
TZOFFSETFROM:+0200
TZOFFSETTO:+0100
TZNAME:CET
DTSTART:20241027T010000
END:STANDARD
BEGIN:DAYLIGHT
TZOFFSETFROM:+0100
TZOFFSETTO:+0200
TZNAME:CEST
DTSTART:20250330T010000
END:DAYLIGHT
BEGIN:STANDARD
TZOFFSETFROM:+0200
TZOFFSETTO:+0100
TZNAME:CET
DTSTART:20251026T010000
END:STANDARD
BEGIN:DAYLIGHT
TZOFFSETFROM:+0100
TZOFFSETTO:+0200
TZNAME:CEST
DTSTART:20260329T010000
END:DAYLIGHT
BEGIN:STANDARD
TZOFFSETFROM:+0200
TZOFFSETTO:+0100
TZNAME:CET
DTSTART:20261025T010000
END:STANDARD
END:VTIMEZONE
BEGIN:VEVENT
DTSTART;VALUE=DATE:20251003
DTEND;VALUE=DATE:20251007
DTSTAMP:20260422T114110
CREATED:20251002T085202Z
LAST-MODIFIED:20251002T085202Z
UID:34451-1759449600-1759795199@arenasdesanpedro.es
SUMMARY:Fiestas en honor a nuestra Señora del Rosario de Ramacastañas y La Parra
DESCRIPTION:Ramacastañas celebra sus fiestas patronales en honor a la Virgen del Rosario desde el viernes 3 hasta el lunes 6 de octubre de 2025. \nLa Parra celebra sus fiestas patronales en honor a la Virgen del Rosario desde el viernes 3 hasta el lunes 5 de octubre de 2025. \n#ArenasDeSanPedro #laparra #hontanares #ramacastañas\n#dondetussentidosdespiertan\n#gredostietar \nExcmo. Ayuntamiento de Arenas De San Pedro
URL:https://arenasdesanpedro.es/evento/fiestas-en-honor-a-nuestra-senora-del-rosario-de-ramacastanas-y-la-parra/
ATTACH;FMTTYPE=image/jpeg:https://arenasdesanpedro.es/wp-content/uploads/2025/09/Diseno-sin-titulo-2-1.jpg
END:VEVENT
END:VCALENDAR