BEGIN:VCALENDAR
VERSION:2.0
PRODID:-//Web del Ayuntamiento de Arenas de San Pedro - ECPv6.15.18//NONSGML v1.0//EN
CALSCALE:GREGORIAN
METHOD:PUBLISH
X-ORIGINAL-URL:https://arenasdesanpedro.es
X-WR-CALDESC:Eventos para Web del Ayuntamiento de Arenas de San Pedro
REFRESH-INTERVAL;VALUE=DURATION:PT1H
X-Robots-Tag:noindex
X-PUBLISHED-TTL:PT1H
BEGIN:VTIMEZONE
TZID:Europe/Madrid
BEGIN:DAYLIGHT
TZOFFSETFROM:+0100
TZOFFSETTO:+0200
TZNAME:CEST
DTSTART:20240331T010000
END:DAYLIGHT
BEGIN:STANDARD
TZOFFSETFROM:+0200
TZOFFSETTO:+0100
TZNAME:CET
DTSTART:20241027T010000
END:STANDARD
BEGIN:DAYLIGHT
TZOFFSETFROM:+0100
TZOFFSETTO:+0200
TZNAME:CEST
DTSTART:20250330T010000
END:DAYLIGHT
BEGIN:STANDARD
TZOFFSETFROM:+0200
TZOFFSETTO:+0100
TZNAME:CET
DTSTART:20251026T010000
END:STANDARD
BEGIN:DAYLIGHT
TZOFFSETFROM:+0100
TZOFFSETTO:+0200
TZNAME:CEST
DTSTART:20260329T010000
END:DAYLIGHT
BEGIN:STANDARD
TZOFFSETFROM:+0200
TZOFFSETTO:+0100
TZNAME:CET
DTSTART:20261025T010000
END:STANDARD
END:VTIMEZONE
BEGIN:VEVENT
DTSTART;VALUE=DATE:20250410
DTEND;VALUE=DATE:20250421
DTSTAMP:20260420T095745
CREATED:20250408T084058Z
LAST-MODIFIED:20250408T084058Z
UID:33687-1744243200-1745193599@arenasdesanpedro.es
SUMMARY:Semana Santa 2025
DESCRIPTION:
URL:https://arenasdesanpedro.es/evento/semana-santa-2025/
ATTACH;FMTTYPE=image/jpeg:https://arenasdesanpedro.es/wp-content/uploads/2025/04/Programacion-copia.jpg
END:VEVENT
BEGIN:VEVENT
DTSTART;TZID=Europe/Madrid:20250412T193000
DTEND;TZID=Europe/Madrid:20250412T213000
DTSTAMP:20260420T095745
CREATED:20250411T120513Z
LAST-MODIFIED:20250411T120513Z
UID:33707-1744486200-1744493400@arenasdesanpedro.es
SUMMARY:Pregón de la Semana Santa 2025
DESCRIPTION:El pregón del padre don Javier Calvo Tolosa\, abrirá la Semana Santa 2025 de Arenas de San Pedro. \n\n\nLa Iglesia de Ntra. Sra. de la Asunción de Arenas de San Pedro acogerá el próximo sábado\, día 12 de abril\, el acto del Pregón de Semana Santa 2025 que correrá a cargo del sacerdote don Francisco Javier Calvo Tolosa\, considerándole como persona representativa de nuestro municipio\, donde se le tiene consideración y cariño\, siendo nuestro deseo aunar esfuerzos para realzar la Semana Santa de Arenas de San Pedro. \n\n\n-𝗘𝗹 𝘀á𝗯𝗮𝗱𝗼\, 12 𝗱𝗲 𝗮𝗯𝗿𝗶𝗹\n– 𝗔 𝗹𝗮𝘀 19:30 𝗵𝗼𝗿𝗮𝘀.\n– 𝗘𝗻 𝗹𝗮 𝗜𝗴𝗹𝗲𝘀𝗶𝗮 𝗱𝗲 𝗡𝘂𝗲𝘀𝘁𝗿𝗮 𝗦𝗲ñ𝗼𝗿𝗮 𝗱𝗲 𝗹𝗮 𝗔𝘀𝘂𝗻𝗰𝗶ó𝗻 𝗱𝗲 𝗔𝗿𝗲𝗻𝗮𝘀 𝗱𝗲 𝗦𝗮𝗻 𝗣𝗲𝗱𝗿𝗼. \n\n\n#arenasdesanpedro #laparra #hontanares #ramacastañas\n#dondetussentidosdespiertan\n#gredostietar \n\n\nExcmo. Ayuntamiento de Arenas De San Pedro
URL:https://arenasdesanpedro.es/evento/pregon-de-la-semana-santa-2025/
ATTACH;FMTTYPE=image/jpeg:https://arenasdesanpedro.es/wp-content/uploads/2025/04/cartel-Pregon.jpg
END:VEVENT
BEGIN:VEVENT
DTSTART;TZID=Europe/Madrid:20250412T210000
DTEND;TZID=Europe/Madrid:20250412T220000
DTSTAMP:20260420T095745
CREATED:20250408T094006Z
LAST-MODIFIED:20250408T094006Z
UID:33689-1744491600-1744495200@arenasdesanpedro.es
SUMMARY:Concierto marchas procesionales Banda Municipal de Música
DESCRIPTION:La Banda Municipal de Música de Arenas de San Pedro ofrecerá su concierto de marchas de Semana Santa\, el próximo sábado\, 12 de abril\, a las 21.00 horas en la Parroquia de Nuestra Señora de la Asunción\, una vez que finalice el Pregón\, y estará bajo la dirección de Alberto Barranco Álvaro. \n\n\nLa entrada es libre hasta completar aforo. \n\n\n#ArenasDeSanPedro #laparra #hontanares #ramacastañas\n#dondetussentidosdespiertan\n#GredosTiétar \n\n\nExcmo. Ayuntamiento de Arenas de San Pedro
URL:https://arenasdesanpedro.es/evento/concierto-marchas-procesionales-banda-municipal-de-musica/
ATTACH;FMTTYPE=image/jpeg:https://arenasdesanpedro.es/wp-content/uploads/2025/04/WhatsApp-Image-2025-04-07-at-16.59.01.jpg
END:VEVENT
END:VCALENDAR